BEGIN:VCALENDAR
VERSION:2.0
PRODID:-//Service des loisirs Angus-Bourbonnière - ECPv6.15.18//NONSGML v1.0//EN
CALSCALE:GREGORIAN
METHOD:PUBLISH
X-WR-CALNAME:Service des loisirs Angus-Bourbonnière
X-ORIGINAL-URL:https://slabrosemont.org
X-WR-CALDESC:Évènements pour Service des loisirs Angus-Bourbonnière
REFRESH-INTERVAL;VALUE=DURATION:PT1H
X-Robots-Tag:noindex
X-PUBLISHED-TTL:PT1H
BEGIN:VTIMEZONE
TZID:America/Toronto
BEGIN:DAYLIGHT
TZOFFSETFROM:-0500
TZOFFSETTO:-0400
TZNAME:EDT
DTSTART:20190310T070000
END:DAYLIGHT
BEGIN:STANDARD
TZOFFSETFROM:-0400
TZOFFSETTO:-0500
TZNAME:EST
DTSTART:20191103T060000
END:STANDARD
BEGIN:DAYLIGHT
TZOFFSETFROM:-0500
TZOFFSETTO:-0400
TZNAME:EDT
DTSTART:20200308T070000
END:DAYLIGHT
BEGIN:STANDARD
TZOFFSETFROM:-0400
TZOFFSETTO:-0500
TZNAME:EST
DTSTART:20201101T060000
END:STANDARD
BEGIN:DAYLIGHT
TZOFFSETFROM:-0500
TZOFFSETTO:-0400
TZNAME:EDT
DTSTART:20210314T070000
END:DAYLIGHT
BEGIN:STANDARD
TZOFFSETFROM:-0400
TZOFFSETTO:-0500
TZNAME:EST
DTSTART:20211107T060000
END:STANDARD
END:VTIMEZONE
BEGIN:VEVENT
DTSTART;TZID=America/Toronto:20200613T153000
DTEND;TZID=America/Toronto:20200613T163000
DTSTAMP:20260421T210615
CREATED:20200306T161213Z
LAST-MODIFIED:20200306T204743Z
UID:7585-1592062200-1592065800@slabrosemont.org
SUMMARY:Atelier de Pickleball débutant pour adultes
DESCRIPTION:Le pickleball est une combinaison de plusieurs sports\, dont le tennis (par ses mouvements)\, le badminton (pour les dimensions du terrain)\, le tennis de table (pour la raquette à surface dure) et le racquetball (pour la dimension de la raquette). Il se joue en simple ou en double\, à l’intérieur comme à l’extérieur\, sur une surface dure (comme celle d’un terrain de tennis). Cette activité sportive peut être pratiquée par des personnes de tout âge : elle est moins exigeante pour les articulations et les muscles que les autres sports de raquette. \nPour en connaître davantage\, consultez le site internet de la Fédération Québécoise de Pickleball.
URL:https://slabrosemont.org/evenement/atelier-de-pickleball-debutant-2/
LOCATION:Québec
END:VEVENT
END:VCALENDAR