BEGIN:VCALENDAR
VERSION:2.0
PRODID:-//Service des loisirs Angus-Bourbonnière - ECPv6.15.18//NONSGML v1.0//EN
CALSCALE:GREGORIAN
METHOD:PUBLISH
X-ORIGINAL-URL:https://slabrosemont.org
X-WR-CALDESC:Évènements pour Service des loisirs Angus-Bourbonnière
REFRESH-INTERVAL;VALUE=DURATION:PT1H
X-Robots-Tag:noindex
X-PUBLISHED-TTL:PT1H
BEGIN:VTIMEZONE
TZID:America/Toronto
BEGIN:DAYLIGHT
TZOFFSETFROM:-0500
TZOFFSETTO:-0400
TZNAME:EDT
DTSTART:20190310T070000
END:DAYLIGHT
BEGIN:STANDARD
TZOFFSETFROM:-0400
TZOFFSETTO:-0500
TZNAME:EST
DTSTART:20191103T060000
END:STANDARD
BEGIN:DAYLIGHT
TZOFFSETFROM:-0500
TZOFFSETTO:-0400
TZNAME:EDT
DTSTART:20200308T070000
END:DAYLIGHT
BEGIN:STANDARD
TZOFFSETFROM:-0400
TZOFFSETTO:-0500
TZNAME:EST
DTSTART:20201101T060000
END:STANDARD
BEGIN:DAYLIGHT
TZOFFSETFROM:-0500
TZOFFSETTO:-0400
TZNAME:EDT
DTSTART:20210314T070000
END:DAYLIGHT
BEGIN:STANDARD
TZOFFSETFROM:-0400
TZOFFSETTO:-0500
TZNAME:EST
DTSTART:20211107T060000
END:STANDARD
END:VTIMEZONE
BEGIN:VEVENT
DTSTART;TZID=America/Toronto:20200411T090000
DTEND;TZID=America/Toronto:20200411T103000
DTSTAMP:20260422T003311
CREATED:20200306T204611Z
LAST-MODIFIED:20200306T204611Z
UID:7589-1586595600-1586601000@slabrosemont.org
SUMMARY:Atelier de cuisine de Pâques parent/enfant
DESCRIPTION:Venez célébrer votre amour de la cuisine avec nous ! Nos recettes ne contiennent pas de noix ou arachides. Lors de recettes incluant de la gélatine\, elles contiennent de la viande\, sinon elles sont végés. Elles peuvent contenir du gluten et/ou des produits laitiers.
URL:https://slabrosemont.org/evenement/atelier-de-cuisine-de-paques-parent-enfant/
LOCATION:Québec
END:VEVENT
BEGIN:VEVENT
DTSTART;TZID=America/Toronto:20200411T103000
DTEND;TZID=America/Toronto:20200411T120000
DTSTAMP:20260422T003311
CREATED:20200306T204853Z
LAST-MODIFIED:20200306T204853Z
UID:7591-1586601000-1586606400@slabrosemont.org
SUMMARY:Atelier de cuisine de Pâques 7-12 ans
DESCRIPTION:Venez célébrer votre amour de la cuisine avec nous ! Nos recettes ne contiennent pas de noix ou arachides. Lors de recettes incluant de la gélatine\, elles contiennent de la viande\, sinon elles sont végés. Elles peuvent contenir du gluten et/ou des produits laitiers.
URL:https://slabrosemont.org/evenement/atelier-de-cuisine-de-paques-7-12-ans/
LOCATION:Québec
END:VEVENT
BEGIN:VEVENT
DTSTART;TZID=America/Toronto:20200411T130000
DTEND;TZID=America/Toronto:20200411T150000
DTSTAMP:20260422T003311
CREATED:20200306T205016Z
LAST-MODIFIED:20200306T205016Z
UID:7593-1586610000-1586617200@slabrosemont.org
SUMMARY:Atelier d'arts de Pâques
DESCRIPTION:En cette période de l’année où la température s’adoucit et les couleurs sortent\, nous vous invitons à notre atelier d’arts dans le cadre de Pâques! Cet atelier vous permettra de laisser aller votre créativité et de créer de magnifiques œuvres d’art !
URL:https://slabrosemont.org/evenement/atelier-darts-de-paques/
LOCATION:Québec
END:VEVENT
BEGIN:VEVENT
DTSTART;TZID=America/Toronto:20200418T110000
DTEND;TZID=America/Toronto:20200418T120000
DTSTAMP:20260422T003311
CREATED:20200313T195519Z
LAST-MODIFIED:20200313T195555Z
UID:7609-1587207600-1587211200@slabrosemont.org
SUMMARY:Atelier Parc en folie ! Parc Lafond et Ateliers libres au SLAB
DESCRIPTION:Préparez-vous pour le Parc en folie au parc Lafond ! ! Nos animateurs et animatrices dévoués vous y retrouveront une fois de plus. Une multitude d’activités vous seront offertes avec du matériel sur place et adapté aux âges et au goût de tous et toutes. Une belle façon de profiter du plein air en famille ! \nDe plus\, le même concept se produira l’après-midi des journées Parc en folie\, mais dans nos locaux ! Matériel disponible sur place\, salles diverses et chauffées et activités libres ou encadrées seront à votre disposition ! Ces périodes auront lieu les mêmes dates que celles des Parcs en folie\, de 13h à 15h\, au SLAB.  \nCes ateliers sont gratuits\, nous vous invitons toutefois à vous inscrire à l’avance en nous rejoignant par téléphone au 514-903-7522 ou en personne\, au 2è étage du 5350 rue Lafond. Dans le cas où la température soit mauvaise ou qu’il n’y ait personne\, il est possible que l’animateur ou l’animatrice quitte les lieux avant l’heure de fin prévue. 
URL:https://slabrosemont.org/evenement/atelier-parc-en-folie-parc-lafond-et-ateliers-libres-au-slab/
LOCATION:Parc Lafond\, 3330 avenue Laurier Est\, Montréal\, Québec\, H1X 1V2\, Canada
END:VEVENT
BEGIN:VEVENT
DTSTART;TZID=America/Toronto:20200419T140000
DTEND;TZID=America/Toronto:20200419T150000
DTSTAMP:20260422T003311
CREATED:20200305T201135Z
LAST-MODIFIED:20200306T204644Z
UID:7583-1587304800-1587308400@slabrosemont.org
SUMMARY:Atelier d'initiation au soccer parent/enfant (5 ans et +)
DESCRIPTION:Le soccer est un sport incontournable au SLAB ! C’est aussi une activité qui se veut rassembleuse et qui met de l’avant l’esprit d’équipe et de fraternité. C’est pourquoi nous vous offrons l’opportunité de pratiquer votre activité en famille ! Venez en grand nombre vous initier au soccer parent/enfant !
URL:https://slabrosemont.org/evenement/atelier-dinitiation-au-soccer-parent-enfant-5-ans-et/
LOCATION:Québec
END:VEVENT
BEGIN:VEVENT
DTSTART;TZID=America/Toronto:20200425T100000
DTEND;TZID=America/Toronto:20200425T110000
DTSTAMP:20260422T003311
CREATED:20200310T191458Z
LAST-MODIFIED:20200310T191458Z
UID:7598-1587808800-1587812400@slabrosemont.org
SUMMARY:Atelier de Tonus & raffermissement pour adultes et pour 50 +
DESCRIPTION:Cet atelier vise à apprivoiser ce cours prisé par les membres du SLAB. La technique de stretching vous apprendra à tonifier en douceur les muscles des bras\, épaules\, pectoraux\, cuisses\, fesses et abdominaux. Ces enchaînements de mouvements simples et faciles à exécuter se font au son d’une musique entraînante dans le respect des capacités physiques de chacun. L’atelier se termine par une période d’étirements afin de travailler la souplesse.
URL:https://slabrosemont.org/evenement/atelier-de-tonus-raffermissement-pour-adultes-et-pour-50/
LOCATION:Québec
END:VEVENT
BEGIN:VEVENT
DTSTART;TZID=America/Toronto:20200425T110000
DTEND;TZID=America/Toronto:20200425T120000
DTSTAMP:20260422T003311
CREATED:20200310T174238Z
LAST-MODIFIED:20200310T174238Z
UID:7596-1587812400-1587816000@slabrosemont.org
SUMMARY:Atelier de Zumba parent-enfant (5 ans +)
DESCRIPTION:Au cours des dernières années\, la Zumba a suscité l’intérêt de par ses techniques de danses diversifiées\, alliant le fitness et la finesse. Le SLAB est fier de vous introduire à la Zumba parent-enfant\, dédiée et adaptée à la fois aux enfants et aux adultes. Une façon unique pour vos enfants de découvrir le monde de l’exercice physique à travers la danse et ce\, de tous les coins du monde ! Une façon originale\, aussi\, de passer du temps en famille.
URL:https://slabrosemont.org/evenement/atelier-de-zumba-parent-enfant-5-ans/
LOCATION:Québec
END:VEVENT
BEGIN:VEVENT
DTSTART;TZID=America/Toronto:20200425T110000
DTEND;TZID=America/Toronto:20200425T120000
DTSTAMP:20260422T003311
CREATED:20200313T195746Z
LAST-MODIFIED:20200313T195746Z
UID:7611-1587812400-1587816000@slabrosemont.org
SUMMARY:Atelier Parc en folie ! Parc Lafond et Atelier libre au SLAB
DESCRIPTION:Préparez-vous pour le Parc en folie au parc Lafond ! ! Nos animateurs et animatrices dévoués vous y retrouveront une fois de plus. Une multitude d’activités vous seront offertes avec du matériel sur place et adapté aux âges et au goût de tous et toutes. Une belle façon de profiter du plein air en famille ! \nDe plus\, le même concept se produira l’après-midi des journées Parc en folie\, mais dans nos locaux ! Matériel disponible sur place\, salles diverses et chauffées et activités libres ou encadrées seront à votre disposition ! Ces périodes auront lieu les mêmes dates que celles des Parcs en folie\, de 13h à 15h\, au SLAB.  \nCes ateliers sont gratuits\, nous vous invitons toutefois à vous inscrire à l’avance en nous rejoignant par téléphone au 514-903-7522 ou en personne\, au 2è étage du 5350 rue Lafond. Dans le cas où la température soit mauvaise ou qu’il n’y ait personne\, il est possible que l’animateur ou l’animatrice quitte les lieux avant l’heure de fin prévue. 
URL:https://slabrosemont.org/evenement/atelier-parc-en-folie-parc-lafond-et-atelier-libre-au-slab/
LOCATION:Parc Lafond\, 3330 avenue Laurier Est\, Montréal\, Québec\, H1X 1V2\, Canada
END:VEVENT
BEGIN:VEVENT
DTSTART;TZID=America/Toronto:20200426T110000
DTEND;TZID=America/Toronto:20200426T120000
DTSTAMP:20260422T003311
CREATED:20200313T203130Z
LAST-MODIFIED:20200313T203130Z
UID:7617-1587898800-1587902400@slabrosemont.org
SUMMARY:Atelier Parc en folie ! Parc Jean-Duceppe
DESCRIPTION:Préparez-vous pour le Parc en folie au parc Lafond ! ! Nos animateurs et animatrices dévoués vous y retrouveront une fois de plus. Une multitude d’activités vous seront offertes avec du matériel sur place et adapté aux âges et au goût de tous et toutes. Une belle façon de profiter du plein air en famille ! \nDe plus\, le même concept se produira l’après-midi des journées Parc en folie\, mais dans nos locaux ! Matériel disponible sur place\, salles diverses et chauffées et activités libres ou encadrées seront à votre disposition ! Ces périodes auront lieu les mêmes dates que celles des Parcs en folie\, de 13h à 15h\, au SLAB.  \nCes ateliers sont gratuits\, nous vous invitons toutefois à vous inscrire à l’avance en nous rejoignant par téléphone au 514-903-7522 ou en personne\, au 2è étage du 5350 rue Lafond. Dans le cas où la température soit mauvaise ou qu’il n’y ait personne\, il est possible que l’animateur ou l’animatrice quitte les lieux avant l’heure de fin prévue. 
URL:https://slabrosemont.org/evenement/atelier-parc-en-folie-parc-jean-duceppe/
LOCATION:Parc Jean-Duceppe\, Montréal
END:VEVENT
END:VCALENDAR