BEGIN:VCALENDAR
VERSION:2.0
PRODID:-//Service des loisirs Angus-Bourbonnière - ECPv6.15.18//NONSGML v1.0//EN
CALSCALE:GREGORIAN
METHOD:PUBLISH
X-ORIGINAL-URL:https://slabrosemont.org
X-WR-CALDESC:Évènements pour Service des loisirs Angus-Bourbonnière
REFRESH-INTERVAL;VALUE=DURATION:PT1H
X-Robots-Tag:noindex
X-PUBLISHED-TTL:PT1H
BEGIN:VTIMEZONE
TZID:America/Toronto
BEGIN:DAYLIGHT
TZOFFSETFROM:-0500
TZOFFSETTO:-0400
TZNAME:EDT
DTSTART:20190310T070000
END:DAYLIGHT
BEGIN:STANDARD
TZOFFSETFROM:-0400
TZOFFSETTO:-0500
TZNAME:EST
DTSTART:20191103T060000
END:STANDARD
BEGIN:DAYLIGHT
TZOFFSETFROM:-0500
TZOFFSETTO:-0400
TZNAME:EDT
DTSTART:20200308T070000
END:DAYLIGHT
BEGIN:STANDARD
TZOFFSETFROM:-0400
TZOFFSETTO:-0500
TZNAME:EST
DTSTART:20201101T060000
END:STANDARD
BEGIN:DAYLIGHT
TZOFFSETFROM:-0500
TZOFFSETTO:-0400
TZNAME:EDT
DTSTART:20210314T070000
END:DAYLIGHT
BEGIN:STANDARD
TZOFFSETFROM:-0400
TZOFFSETTO:-0500
TZNAME:EST
DTSTART:20211107T060000
END:STANDARD
END:VTIMEZONE
BEGIN:VEVENT
DTSTART;TZID=America/Toronto:20200208T153000
DTEND;TZID=America/Toronto:20200208T163000
DTSTAMP:20260422T035000
CREATED:20191210T194916Z
LAST-MODIFIED:20191210T194916Z
UID:7104-1581175800-1581179400@slabrosemont.org
SUMMARY:Atelier de Pickleball débutant
DESCRIPTION:Le pickleball est une combinaison de plusieurs sports\, dont le tennis (par ses mouvements)\, le badminton (pour les dimensions du terrain)\, le tennis de table (pour la raquette à surface dure) et le racquetball (pour la dimension de la raquette). Il se joue en simple ou en double\, à l’intérieur comme à l’extérieur\, sur une surface dure (comme celle d’un terrain de tennis). Cette activité sportive peut être pratiquée par des personnes de tout âge : elle est moins exigeante pour les articulations et les muscles que les autres sports de raquette. \nPour en savoir davantage\, consultez le site internet de la Fédération Québécoise de Pickleball.
URL:https://slabrosemont.org/evenement/atelier-de-pickleball-debutant/
LOCATION:Centre Gabrielle-et-Marcel-Lapalme\, 5350 rue Lafond\, Montréal\, Québec\, H1X 2X2\, Canada
END:VEVENT
BEGIN:VEVENT
DTSTART;TZID=America/Toronto:20200209T090000
DTEND;TZID=America/Toronto:20200209T103000
DTSTAMP:20260422T035000
CREATED:20191128T204025Z
LAST-MODIFIED:20191128T204025Z
UID:7079-1581238800-1581244200@slabrosemont.org
SUMMARY:Cuisine de la St-Valentin parent/enfant
DESCRIPTION:Venez célébrer votre amour de la cuisine avec nous ! Nos recettes ne contiennent pas de noix ou arachides. Lors de recettes incluant de la gélatine\, elles contiennent de la viande\, sinon elles sont végés. Elles peuvent contenir du gluten et/ou des produits laitiers. Au menu pour la St-Valentin : Crêpes « Red Velvet ».
URL:https://slabrosemont.org/evenement/cuisine-de-la-st-valentin-parent-enfant/
LOCATION:Centre Gabrielle-et-Marcel-Lapalme\, 5350 rue Lafond\, Montréal\, Québec\, H1X 2X2\, Canada
END:VEVENT
BEGIN:VEVENT
DTSTART;TZID=America/Toronto:20200209T103000
DTEND;TZID=America/Toronto:20200209T120000
DTSTAMP:20260422T035000
CREATED:20191128T204147Z
LAST-MODIFIED:20191128T204147Z
UID:7081-1581244200-1581249600@slabrosemont.org
SUMMARY:Cuisine de la St-Valentin 7-12 ans
DESCRIPTION:Venez célébrer votre amour de la cuisine avec nous ! Nos recettes ne contiennent pas de noix ou arachides. Lors de recettes incluant de la gélatine\, elles contiennent de la viande\, sinon elles sont végés. Elles peuvent contenir du gluten et/ou des produits laitiers. Au menu pour la St-Valentin : Crêpes « Red Velvet ».
URL:https://slabrosemont.org/evenement/cuisine-de-la-st-valentin-7-12-ans/
LOCATION:Québec
END:VEVENT
BEGIN:VEVENT
DTSTART;TZID=America/Toronto:20200209T130000
DTEND;TZID=America/Toronto:20200209T150000
DTSTAMP:20260422T035000
CREATED:20191128T221756Z
LAST-MODIFIED:20191128T221756Z
UID:7084-1581253200-1581260400@slabrosemont.org
SUMMARY:Atelier d'arts - Saint-Valentin
DESCRIPTION:En cette période remplie d’amour\, nous invitons les enfants à venir créer une carte de Saint-Valentin à offrir à une personne qui leur est chère !
URL:https://slabrosemont.org/evenement/atelier-darts-saint-valentin/
LOCATION:Centre Gabrielle-et-Marcel-Lapalme\, 5350 rue Lafond\, Montréal\, Québec\, H1X 2X2\, Canada
END:VEVENT
BEGIN:VEVENT
DTSTART;TZID=America/Toronto:20200214T180000
DTEND;TZID=America/Toronto:20200214T200000
DTSTAMP:20260422T035000
CREATED:20191203T183018Z
LAST-MODIFIED:20191203T183018Z
UID:7090-1581703200-1581710400@slabrosemont.org
SUMMARY:Cinéma de la Saint-Valentin en famille
DESCRIPTION:Dans le cadre de la fête de la Saint-Valentin\, le SLAB vous convie à sa soirée film ! Du maïs soufflé sera disponible sur place\, au coût de 2$. L’entrée est gratuite et l’accès est offert à toute la famille !
URL:https://slabrosemont.org/evenement/cinema-de-la-saint-valentin-en-famille/
LOCATION:Centre Gabrielle-et-Marcel-Lapalme\, 5350 rue Lafond\, Montréal\, Québec\, H1X 2X2\, Canada
END:VEVENT
BEGIN:VEVENT
DTSTART;TZID=America/Toronto:20200216T110000
DTEND;TZID=America/Toronto:20200216T120000
DTSTAMP:20260422T035000
CREATED:20191125T212127Z
LAST-MODIFIED:20191125T212127Z
UID:7051-1581850800-1581854400@slabrosemont.org
SUMMARY:Parc en folie ! Parc Jean-Duceppe
DESCRIPTION:Une multitude d’activités offertes par nos animateurs certifiés\, matériel sur place et adapté aux saisons. Une belle façon de profiter du plein air en famille ! L’atelier est gratuit.
URL:https://slabrosemont.org/evenement/parc-en-folie-parc-jean-duceppe-5/
LOCATION:Parc Jean-Duceppe
END:VEVENT
BEGIN:VEVENT
DTSTART;TZID=America/Toronto:20200216T130000
DTEND;TZID=America/Toronto:20200216T143000
DTSTAMP:20260422T035000
CREATED:20191128T224719Z
LAST-MODIFIED:20191128T224719Z
UID:7086-1581858000-1581863400@slabrosemont.org
SUMMARY:Atelier de Tricot
DESCRIPTION:Vous désirez apprendre les bases du tricot\, avancer vos créations en bonne compagnie ou apprendre de nouvelles astuces ? Cet atelier est pour vous ! Venez profiter de l’expertise de notre professeure Élise\, qui a plus de 20 ans d’expérience derrière la cravate (tricotée à la main\, bien sûr) ! Profitez aussi du moment pour discuter et partager vos connaissances avec d’autres participants et participantes !
URL:https://slabrosemont.org/evenement/atelier-de-tricot/
LOCATION:Centre Gabrielle-et-Marcel-Lapalme\, 5350 rue Lafond\, Montréal\, Québec\, H1X 2X2\, Canada
END:VEVENT
BEGIN:VEVENT
DTSTART;TZID=America/Toronto:20200216T130000
DTEND;TZID=America/Toronto:20200216T150000
DTSTAMP:20260422T035000
CREATED:20191128T193252Z
LAST-MODIFIED:20191128T193252Z
UID:7069-1581858000-1581865200@slabrosemont.org
SUMMARY:Activités libres au SLAB
DESCRIPTION:Le SLAB vous ouvre ses portes ! Matériel disponible sur place\, salles diverses et chauffées et activités libres ou encadrées seront à votre disposition ! Ces périodes sont gratuites et ont lieu les mêmes dates que celles des Parcs en folie\, de 13h à 15h\, au SLAB.
URL:https://slabrosemont.org/evenement/activites-libres-au-slab-4/
LOCATION:Centre Gabrielle-et-Marcel-Lapalme\, 5350 rue Lafond\, Montréal\, Québec\, H1X 2X2\, Canada
END:VEVENT
BEGIN:VEVENT
DTSTART;TZID=America/Toronto:20200222T100000
DTEND;TZID=America/Toronto:20200222T110000
DTSTAMP:20260422T035000
CREATED:20191031T192922Z
LAST-MODIFIED:20191031T192922Z
UID:6896-1582365600-1582369200@slabrosemont.org
SUMMARY:Atelier d'Essentrics (étirement et souplesse)
DESCRIPTION:Cet atelier vise à démontrer comment nos cours d’Essentrics (étirement et souplesse) améliorent la mobilité des articulations et assouplissent les muscles. Ces exercices permettent d’acquérir une colonne vertébrale plus mobile et plus souple\, une plus grande aisance dans ses mouvements et une meilleure posture. Les exercices s’exécutent principalement debout et au tapis\, puis quelques fois à l’aide d’une chaise. Le tout est effectué en musique et en douceur\, en  respectant les capacités physiques de chacun des participants.
URL:https://slabrosemont.org/evenement/atelier-dessentrics-etirement-et-souplesse/
LOCATION:Centre Gabrielle-et-Marcel-Lapalme\, 5350 rue Lafond\, Montréal\, Québec\, H1X 2X2\, Canada
END:VEVENT
BEGIN:VEVENT
DTSTART;TZID=America/Toronto:20200223T130000
DTEND;TZID=America/Toronto:20200223T150000
DTSTAMP:20260422T035000
CREATED:20191128T193338Z
LAST-MODIFIED:20191128T193338Z
UID:7071-1582462800-1582470000@slabrosemont.org
SUMMARY:Activités libres au SLAB
DESCRIPTION:Le SLAB vous ouvre ses portes ! Matériel disponible sur place\, salles diverses et chauffées et activités libres ou encadrées seront à votre disposition ! Ces périodes sont gratuites et ont lieu les mêmes dates que celles des Parcs en folie\, de 13h à 15h\, au SLAB.
URL:https://slabrosemont.org/evenement/activites-libres-au-slab-5/
LOCATION:Centre Gabrielle-et-Marcel-Lapalme\, 5350 rue Lafond\, Montréal\, Québec\, H1X 2X2\, Canada
END:VEVENT
BEGIN:VEVENT
DTSTART;TZID=America/Toronto:20200223T140000
DTEND;TZID=America/Toronto:20200223T150000
DTSTAMP:20260422T035000
CREATED:20191125T212658Z
LAST-MODIFIED:20191125T212658Z
UID:7053-1582466400-1582470000@slabrosemont.org
SUMMARY:Parc en folie ! Parc Lafond
DESCRIPTION:Une multitude d’activités offertes par nos animateurs certifiés\, matériel sur place et adapté aux saisons. Une belle façon de profiter du plein air en famille ! L’atelier est gratuit.
URL:https://slabrosemont.org/evenement/parc-en-folie-parc-lafond-6/
LOCATION:Parc Lafond\, 3330 avenue Laurier Est\, Montréal\, Québec\, H1X 1V2\, Canada
END:VEVENT
END:VCALENDAR