BEGIN:VCALENDAR
VERSION:2.0
PRODID:-//Service des loisirs Angus-Bourbonnière - ECPv6.15.20//NONSGML v1.0//EN
CALSCALE:GREGORIAN
METHOD:PUBLISH
X-ORIGINAL-URL:https://slabrosemont.org
X-WR-CALDESC:Évènements pour Service des loisirs Angus-Bourbonnière
REFRESH-INTERVAL;VALUE=DURATION:PT1H
X-Robots-Tag:noindex
X-PUBLISHED-TTL:PT1H
BEGIN:VTIMEZONE
TZID:America/Toronto
BEGIN:DAYLIGHT
TZOFFSETFROM:-0500
TZOFFSETTO:-0400
TZNAME:EDT
DTSTART:20180311T070000
END:DAYLIGHT
BEGIN:STANDARD
TZOFFSETFROM:-0400
TZOFFSETTO:-0500
TZNAME:EST
DTSTART:20181104T060000
END:STANDARD
BEGIN:DAYLIGHT
TZOFFSETFROM:-0500
TZOFFSETTO:-0400
TZNAME:EDT
DTSTART:20190310T070000
END:DAYLIGHT
BEGIN:STANDARD
TZOFFSETFROM:-0400
TZOFFSETTO:-0500
TZNAME:EST
DTSTART:20191103T060000
END:STANDARD
BEGIN:DAYLIGHT
TZOFFSETFROM:-0500
TZOFFSETTO:-0400
TZNAME:EDT
DTSTART:20200308T070000
END:DAYLIGHT
BEGIN:STANDARD
TZOFFSETFROM:-0400
TZOFFSETTO:-0500
TZNAME:EST
DTSTART:20201101T060000
END:STANDARD
END:VTIMEZONE
BEGIN:VEVENT
DTSTART;TZID=America/Toronto:20190905T170000
DTEND;TZID=America/Toronto:20190905T203000
DTSTAMP:20260422T125739
CREATED:20190823T190614Z
LAST-MODIFIED:20190823T190614Z
UID:6446-1567702800-1567715400@slabrosemont.org
SUMMARY:Kiosque à Masson en fête !
DESCRIPTION:Du 5 au 8 septembre 2019\, la Caisse Desjardins du Cœur-de-l’île vous présente Masson en fête\, la foire commerciale de la Promenade Masson. À cette occasion\, l’artère commerciale se transformera en véritable terrain de jeux pour les petits et les grands. Jeux d’échecs géants\, jeux gonflables et spectacles sont quelques-unes des activités proposées durant ces 4 jours de festivités. (http://www.promenademasson.com/fr/masson-en-fete-septembre/). Venez nous voir ! Notre kiosque sera situé en face du Rona\, au 2918 rue Masson.
URL:https://slabrosemont.org/evenement/kiosque-a-masson-en-fete/
LOCATION:Promenade Masson
END:VEVENT
BEGIN:VEVENT
DTSTART;TZID=America/Toronto:20190906T170000
DTEND;TZID=America/Toronto:20190906T203000
DTSTAMP:20260422T125739
CREATED:20190823T190834Z
LAST-MODIFIED:20190823T190834Z
UID:6449-1567789200-1567801800@slabrosemont.org
SUMMARY:Kiosque à Masson en fête !
DESCRIPTION:Du 5 au 8 septembre 2019\, la Caisse Desjardins du Cœur-de-l’île vous présente Masson en fête\, la foire commerciale de la Promenade Masson. À cette occasion\, l’artère commerciale se transformera en véritable terrain de jeux pour les petits et les grands. Jeux d’échecs géants\, jeux gonflables et spectacles sont quelques-unes des activités proposées durant ces 4 jours de festivités. (http://www.promenademasson.com/fr/masson-en-fete-septembre/). Venez nous voir ! Notre kiosque sera situé en face du Rona\, au 2918 rue Masson.
URL:https://slabrosemont.org/evenement/kiosque-a-masson-en-fete-2/
LOCATION:Promenade Masson
END:VEVENT
BEGIN:VEVENT
DTSTART;TZID=America/Toronto:20190907T100000
DTEND;TZID=America/Toronto:20190907T140000
DTSTAMP:20260422T125739
CREATED:20190823T192442Z
LAST-MODIFIED:20190823T192442Z
UID:6451-1567850400-1567864800@slabrosemont.org
SUMMARY:Kiosque à Masson en fête !
DESCRIPTION:Du 5 au 8 septembre 2019\, la Caisse Desjardins du Cœur-de-l’île vous présente Masson en fête\, la foire commerciale de la Promenade Masson. À cette occasion\, l’artère commerciale se transformera en véritable terrain de jeux pour les petits et les grands. Jeux d’échecs géants\, jeux gonflables et spectacles sont quelques-unes des activités proposées durant ces 4 jours de festivités. (http://www.promenademasson.com/fr/masson-en-fete-septembre/). Venez nous voir ! Notre kiosque sera situé en face du Rona\, au 2918 rue Masson.
URL:https://slabrosemont.org/evenement/kiosque-a-masson-en-fete-3/
LOCATION:Québec
END:VEVENT
BEGIN:VEVENT
DTSTART;TZID=America/Toronto:20190914T100000
DTEND;TZID=America/Toronto:20190914T160000
DTSTAMP:20260422T125739
CREATED:20190823T192836Z
LAST-MODIFIED:20190823T192836Z
UID:6454-1568455200-1568476800@slabrosemont.org
SUMMARY:Kiosque à la Fête de la rentrée de l’Arrondissement Rosemont-Petite-Patrie
DESCRIPTION:« L’arrondissement de Rosemont–La Petite-Patrie vous invite à faire la fête le samedi 14 septembre\, de 10 h à 16 h\, au parc du Pélican! Venez profiter d’une foule d’activités gratuites pour toute la famille\, montez à bord de nos camions et rencontrez nos employés passionnés.» (https://www.facebook.com/events/2084227931871806/). Dans le cadre de cet évènement\, le SLAB affichera fièrement ses couleurs avec son kiosque et ses démonstrations !
URL:https://slabrosemont.org/evenement/kiosque-a-la-fete-de-la-rentree-de-larrondissement-rosemont-petite-patrie/
LOCATION:Parc Pélican\, 2560 rue Masson\, Montréal\, Québec\, H1Y 1V9\, Canada
END:VEVENT
BEGIN:VEVENT
DTSTART;TZID=America/Toronto:20190914T110000
DTEND;TZID=America/Toronto:20190914T120000
DTSTAMP:20260422T125739
CREATED:20190823T193200Z
LAST-MODIFIED:20190823T193200Z
UID:6457-1568458800-1568462400@slabrosemont.org
SUMMARY:Parc en folie ! Parc Lafond
DESCRIPTION:Une multitude d’activités offertes par nos animateurs certifiés\, matériel sur place et adapté aux saisons. Une belle façon de profiter du plein air en famille ! L’atelier est gratuit.
URL:https://slabrosemont.org/evenement/parc-en-folie-parc-lafond/
LOCATION:Parc Lafond\, 3330 avenue Laurier Est\, Montréal\, Québec\, H1X 1V2\, Canada
END:VEVENT
BEGIN:VEVENT
DTSTART;TZID=America/Toronto:20190914T130000
DTEND;TZID=America/Toronto:20190914T141500
DTSTAMP:20260422T125739
CREATED:20190823T193616Z
LAST-MODIFIED:20190823T193616Z
UID:6462-1568466000-1568470500@slabrosemont.org
SUMMARY:Taï Chi ados-adultes
DESCRIPTION:Le Taï Chi est un exercice mental et physique. Il vous apprend la détente\, la concentration\, la tranquillité\, l’harmonie\, la bonne respiration et l’équilibre ; il renforce vos muscles\, augmente vos taux de calcium\, diminue votre pression sanguine\, améliore votre circulation\, etc.
URL:https://slabrosemont.org/evenement/tai-chi-ados-adultes/
LOCATION:Centre Gabrielle-et-Marcel-Lapalme\, 5350 rue Lafond\, Montréal\, Québec\, H1X 2X2\, Canada
END:VEVENT
BEGIN:VEVENT
DTSTART;TZID=America/Toronto:20190914T130000
DTEND;TZID=America/Toronto:20190914T150000
DTSTAMP:20260422T125739
CREATED:20190823T193347Z
LAST-MODIFIED:20190823T193347Z
UID:6460-1568466000-1568473200@slabrosemont.org
SUMMARY:Samedis libres
DESCRIPTION:Le SLAB vous ouvre ses portes ! Venez profiter de nos installations et de notre matériel ! Des locaux ainsi que des jeux vous sont fournis gratuitement. Activités libres\, salles accessibles selon les disponibilités.
URL:https://slabrosemont.org/evenement/samedis-libres/
LOCATION:Centre Gabrielle-et-Marcel-Lapalme\, 5350 rue Lafond\, Montréal\, Québec\, H1X 2X2\, Canada
END:VEVENT
BEGIN:VEVENT
DTSTART;TZID=America/Toronto:20190918T180000
DTEND;TZID=America/Toronto:20190918T190000
DTSTAMP:20260422T125739
CREATED:20190823T204418Z
LAST-MODIFIED:20190823T204418Z
UID:6464-1568829600-1568833200@slabrosemont.org
SUMMARY:Yoga parent/enfant
DESCRIPTION:Venez pratiquer le yoga avec votre enfant! Cet atelier sera parfaitement adapté à toute la famille pour permettre à tous de découvrir cette discipline ayant de nombreux bienfaits.
URL:https://slabrosemont.org/evenement/yoga-parent-enfant-2/
LOCATION:Centre Gabrielle-et-Marcel-Lapalme\, 5350 rue Lafond\, Montréal\, Québec\, H1X 2X2\, Canada
END:VEVENT
BEGIN:VEVENT
DTSTART;TZID=America/Toronto:20190922T110000
DTEND;TZID=America/Toronto:20190922T120000
DTSTAMP:20260422T125739
CREATED:20190823T204526Z
LAST-MODIFIED:20190910T150201Z
UID:6466-1569150000-1569153600@slabrosemont.org
SUMMARY:Parc en folie ! Parc Jean-Duceppe
DESCRIPTION:Une multitude d’activités offertes par nos animateurs certifiés\, matériel sur place et adapté aux saisons. Une belle façon de profiter du plein air en famille ! L’atelier est gratuit.
URL:https://slabrosemont.org/evenement/parc-en-folie-parc-jean-duceppe/
LOCATION:Parc Jean-Duceppe
END:VEVENT
BEGIN:VEVENT
DTSTART;TZID=America/Toronto:20190922T113000
DTEND;TZID=America/Toronto:20190922T123000
DTSTAMP:20260422T125739
CREATED:20190823T204837Z
LAST-MODIFIED:20190823T204837Z
UID:6470-1569151800-1569155400@slabrosemont.org
SUMMARY:Yoga - Gestion du stress ados-adultes
DESCRIPTION:Atelier de Hatha yoga classique axé sur la gestion du stress. Venez apprendre des techniques de yoga pour vous soutenir dans les situations stressantes de la vie quotidienne. Cet atelier se base sur les 5 points du yoga synthétisés par Swami Vishnudevananda. S’adresse à tous et toutes. Apportez votre tapis ou possibilité d’en emprunter sur place.
URL:https://slabrosemont.org/evenement/yoga-gestion-du-stress-ados-adultes/
LOCATION:Centre Gabrielle-et-Marcel-Lapalme\, 5350 rue Lafond\, Montréal\, Québec\, H1X 2X2\, Canada
END:VEVENT
BEGIN:VEVENT
DTSTART;TZID=America/Toronto:20190922T130000
DTEND;TZID=America/Toronto:20190922T150000
DTSTAMP:20260422T125739
CREATED:20190823T204626Z
LAST-MODIFIED:20190910T150556Z
UID:6468-1569157200-1569164400@slabrosemont.org
SUMMARY:Samedis libres
DESCRIPTION:Le SLAB vous ouvre ses portes ! Venez profiter de nos installations et de notre matériel ! Des locaux ainsi que des jeux vous sont fournis gratuitement. Activités libres\, salles accessibles selon les disponibilités.
URL:https://slabrosemont.org/evenement/samedis-libres-2/
LOCATION:Centre Gabrielle-et-Marcel-Lapalme\, 5350 rue Lafond\, Montréal\, Québec\, H1X 2X2\, Canada
END:VEVENT
BEGIN:VEVENT
DTSTART;TZID=America/Toronto:20190928T130000
DTEND;TZID=America/Toronto:20190928T143000
DTSTAMP:20260422T125739
CREATED:20190823T205005Z
LAST-MODIFIED:20190823T205204Z
UID:6472-1569675600-1569681000@slabrosemont.org
SUMMARY:Journées de la culture – Bande dessinée et dessin pour tous
DESCRIPTION:En 2019\, les Journées de la culture se dérouleront sous le signe de la rencontre\, sous toutes ses formes. » (www.journeesdelaculture.qc.ca). À vos crayons ! Notre fameux atelier de Bande dessinée est de retour cette année ! Venez partager vos trucs\, astuces et idées avec les autres participants et participantes. Un moment unique où partager la passion du dessin\, des histoires et de l’écriture.
URL:https://slabrosemont.org/evenement/journees-de-la-culture-bande-dessinee-et-dessin-pour-tous/
LOCATION:Centre Gabrielle-et-Marcel-Lapalme\, 5350 rue Lafond\, Montréal\, Québec\, H1X 2X2\, Canada
END:VEVENT
BEGIN:VEVENT
DTSTART;TZID=America/Toronto:20190929T130000
DTEND;TZID=America/Toronto:20190929T143000
DTSTAMP:20260422T125739
CREATED:20190823T205136Z
LAST-MODIFIED:20190823T205136Z
UID:6474-1569762000-1569767400@slabrosemont.org
SUMMARY:Journées de la culture – Tricot en plein air
DESCRIPTION:« En 2019\, les Journées de la culture se dérouleront sous le signe de la rencontre\, sous toutes ses formes. » (www.journeesdelaculture.qc.ca). Vous désirez apprendre les bases du tricot\, avancer vos créations en bonne compagnie ou apprendre de nouvelles astuces ? Cet atelier est pour vous ! Venez profiter de la fraîcheur automnale du parc Lafond\, ainsi que de l’expertise de notre professeure Élise\, qui a plus de 20 ans d’expérience derrière la cravate (tricotée à la main\, bien sûr) ! Profitez aussi du moment pour discuter et partager vos connaissances avec d’autres participants et participantes Rendez-vous au plancher de danse du parc Lafond !
URL:https://slabrosemont.org/evenement/journees-de-la-culture-tricot-en-plein-air/
LOCATION:Parc Lafond\, 3330 avenue Laurier Est\, Montréal\, Québec\, H1X 1V2\, Canada
END:VEVENT
END:VCALENDAR