BEGIN:VCALENDAR
VERSION:2.0
PRODID:-//Service des loisirs Angus-Bourbonnière - ECPv6.15.18//NONSGML v1.0//EN
CALSCALE:GREGORIAN
METHOD:PUBLISH
X-WR-CALNAME:Service des loisirs Angus-Bourbonnière
X-ORIGINAL-URL:https://slabrosemont.org
X-WR-CALDESC:Évènements pour Service des loisirs Angus-Bourbonnière
REFRESH-INTERVAL;VALUE=DURATION:PT1H
X-Robots-Tag:noindex
X-PUBLISHED-TTL:PT1H
BEGIN:VTIMEZONE
TZID:America/Toronto
BEGIN:DAYLIGHT
TZOFFSETFROM:-0500
TZOFFSETTO:-0400
TZNAME:EDT
DTSTART:20170312T070000
END:DAYLIGHT
BEGIN:STANDARD
TZOFFSETFROM:-0400
TZOFFSETTO:-0500
TZNAME:EST
DTSTART:20171105T060000
END:STANDARD
BEGIN:DAYLIGHT
TZOFFSETFROM:-0500
TZOFFSETTO:-0400
TZNAME:EDT
DTSTART:20180311T070000
END:DAYLIGHT
BEGIN:STANDARD
TZOFFSETFROM:-0400
TZOFFSETTO:-0500
TZNAME:EST
DTSTART:20181104T060000
END:STANDARD
BEGIN:DAYLIGHT
TZOFFSETFROM:-0500
TZOFFSETTO:-0400
TZNAME:EDT
DTSTART:20190310T070000
END:DAYLIGHT
BEGIN:STANDARD
TZOFFSETFROM:-0400
TZOFFSETTO:-0500
TZNAME:EST
DTSTART:20191103T060000
END:STANDARD
END:VTIMEZONE
BEGIN:VEVENT
DTSTART;TZID=America/Toronto:20180922T100000
DTEND;TZID=America/Toronto:20180922T113000
DTSTAMP:20260422T014735
CREATED:20180919T164641Z
LAST-MODIFIED:20180919T164641Z
UID:4717-1537610400-1537615800@slabrosemont.org
SUMMARY:Atelier Baume à lèvres
DESCRIPTION:Croyez-le ou non\, l’été s’apprête à tirer sa révérence ! Les feuilles tombent\, l’air se rafraîchit et surtout\, la peau s’assèche ! Afin de palier à cela\, le SLAB vous invite à participer à son atelier de fabrication de baume à lèvres ! Une façon simple\, peu coûteuse et efficace de faire le plein de votre baume personnalisé pour l’hiver. \nL’atelier se déroulera ce samedi 22 septembre de 10h à 11h30 et sera au coût de 5$. L’inscription est obligatoire\, vous pouvez l’effectuer par téléphone au 514-903-7522 (crédit seulement) ou en personne (crédit\, débit\, comptant).
URL:https://slabrosemont.org/evenement/atelier-baume-a-levres/
LOCATION:Québec
END:VEVENT
BEGIN:VEVENT
DTSTART;TZID=America/Toronto:20180928T170000
DTEND;TZID=America/Toronto:20180929T173000
DTSTAMP:20260422T014735
CREATED:20180920T151536Z
LAST-MODIFIED:20180920T152339Z
UID:4734-1538154000-1538242200@slabrosemont.org
SUMMARY:Journées de la culture
DESCRIPTION:Afin de souligner l’importance de la culture au sein des loisirs\, le SLAB est fier de s’allier à la 22è édition des Journées de la culture ! Une occasion unique et gratuite de découvrir la panoplie d’activités culturelles offertes par notre service de loisirs. Voici notre programmation: \n\nVendredi 28 septembre\, 17h-18h30: Atelier de Théâtre 6-10 ans\nSamedi 29 septembre\, 10h-11h30: Atelier Vivre le livre\nSamedi 29 septembre\, 13h-14h30: Atelier de Bande dessinée\nSamedi 29 septembre\, 14h30-16h: Atelier de Théâtre d’imanges Kamishibaï\nSamedi 29 septembre\, 16h-17h30: Atelier de Robotique\n\nL’inscription n’est pas obligatoire. Pour plus de renseignements sur les Journées de la culture\, consultez le lien suivant: \nwww.journeesdelaculture.qc.ca \nAu plaisir de partager avec vous les bienfaits de la culture !
URL:https://slabrosemont.org/evenement/journees-de-la-culture/
LOCATION:Centre Gabrielle-et-Marcel-Lapalme\, 5350 rue Lafond\, Montréal\, Québec\, H1X 2X2\, Canada
END:VEVENT
END:VCALENDAR