BEGIN:VCALENDAR
VERSION:2.0
PRODID:-//Service des loisirs Angus-Bourbonnière - ECPv6.15.18//NONSGML v1.0//EN
CALSCALE:GREGORIAN
METHOD:PUBLISH
X-WR-CALNAME:Service des loisirs Angus-Bourbonnière
X-ORIGINAL-URL:https://slabrosemont.org
X-WR-CALDESC:Évènements pour Service des loisirs Angus-Bourbonnière
REFRESH-INTERVAL;VALUE=DURATION:PT1H
X-Robots-Tag:noindex
X-PUBLISHED-TTL:PT1H
BEGIN:VTIMEZONE
TZID:America/Toronto
BEGIN:DAYLIGHT
TZOFFSETFROM:-0500
TZOFFSETTO:-0400
TZNAME:EDT
DTSTART:20150308T070000
END:DAYLIGHT
BEGIN:STANDARD
TZOFFSETFROM:-0400
TZOFFSETTO:-0500
TZNAME:EST
DTSTART:20151101T060000
END:STANDARD
BEGIN:DAYLIGHT
TZOFFSETFROM:-0500
TZOFFSETTO:-0400
TZNAME:EDT
DTSTART:20160313T070000
END:DAYLIGHT
BEGIN:STANDARD
TZOFFSETFROM:-0400
TZOFFSETTO:-0500
TZNAME:EST
DTSTART:20161106T060000
END:STANDARD
BEGIN:DAYLIGHT
TZOFFSETFROM:-0500
TZOFFSETTO:-0400
TZNAME:EDT
DTSTART:20170312T070000
END:DAYLIGHT
BEGIN:STANDARD
TZOFFSETFROM:-0400
TZOFFSETTO:-0500
TZNAME:EST
DTSTART:20171105T060000
END:STANDARD
END:VTIMEZONE
BEGIN:VEVENT
DTSTART;TZID=America/Toronto:20160202T090000
DTEND;TZID=America/Toronto:20160202T190000
DTSTAMP:20260419T184611
CREATED:20160107T193605Z
LAST-MODIFIED:20160107T194529Z
UID:2000-1454403600-1454439600@slabrosemont.org
SUMMARY:Inscriptions Camp de jour semaine de Relâche
DESCRIPTION:C’est déjà le temps de penser à inscrire votre enfant au camp de jour pour les congés de la semaine de relâche. Nous offrons un camp de jour du 29 février au 4 mars 2016 avec une programmation diversifiée comprenant des activités sportive\, culturelles\, scientifiques et physiques. Il y aura une activité de bulle soccer prévue pour le mercredi. Une semaine remplie de surprises et de divertissement. \nHoraire et prix\nCamp de jour: 9h à 15h30 : 57$\nService de garde de 7h à 9h et de 15h30 à 18h: 35$/pour la semaine ou 7$ la période (le matin est une période et le soir est une autre période) \nVous pouvez vous inscrire par téléphone au 514-903-SLAB (7522) ou sur notre site internet.
URL:https://slabrosemont.org/evenement/inscriptions-camp-de-jour-semaine-de-relache-2/
LOCATION:Centre Gabrielle-et-Marcel-Lapalme\, 5350 Rue Lafond\, Montréal\, H1X 2X2
END:VEVENT
BEGIN:VEVENT
DTSTART;TZID=America/Toronto:20160203T090000
DTEND;TZID=America/Toronto:20160203T190000
DTSTAMP:20260419T184611
CREATED:20160107T193906Z
LAST-MODIFIED:20160107T193906Z
UID:2001-1454490000-1454526000@slabrosemont.org
SUMMARY:Inscriptions Camp de jour semaine de relâche
DESCRIPTION:C’est déjà le temps de penser à inscrire votre enfant au camp de jour pour les congés de la semaine de relâche. Nous offrons un camp de jour du 29 février au 4 mars 2016 avec une programmation diversifiée comprenant des activités sportive\, culturelles\, scientifiques et physiques. Il y aura une activité de bulle soccer prévue pour le mercredi. Une semaine remplie de surprises et de divertissement. \nHoraire et prix\nCamp de jour: 9h à 15h30 : 57$\nService de garde de 7h à 9h et de 15h30 à 18h: 35$/pour la semaine ou 7$ la période (le matin est une période et le soir est une autre période) \nVous pouvez vous inscrire par téléphone au 514-903-SLAB (7522) ou sur notre site internet.
URL:https://slabrosemont.org/evenement/inscriptions-camp-de-jour-semaine-de-relache/
LOCATION:Centre Gabrielle-et-Marcel-Lapalme\, 5350 Rue Lafond\, Montréal\, H1X 2X2
END:VEVENT
BEGIN:VEVENT
DTSTART;TZID=America/Toronto:20160206T090000
DTEND;TZID=America/Toronto:20160206T163000
DTSTAMP:20260419T184611
CREATED:20160107T215107Z
LAST-MODIFIED:20160107T215605Z
UID:2012-1454749200-1454776200@slabrosemont.org
SUMMARY:Préliminaire Athlétisme Jeux de Montréal
DESCRIPTION:Préliminaire d’athlétisme au Centre Étienne Desmarteau\n9h à 16h30
URL:https://slabrosemont.org/evenement/preliminaire-athletisme-jeux-de-montreal/
LOCATION:Centre Étienne Desmarteau\, 3430 rue Bellechasse\, Montréal\, H1X2Y6
END:VEVENT
BEGIN:VEVENT
DTSTART;TZID=America/Toronto:20160207T100000
DTEND;TZID=America/Toronto:20160207T130000
DTSTAMP:20260419T184611
CREATED:20160107T214849Z
LAST-MODIFIED:20160107T214849Z
UID:2011-1454839200-1454850000@slabrosemont.org
SUMMARY:Préliminaire Karaté Jeux de Montréal
DESCRIPTION:Préliminaire Karaté Jeux de Montréal au Centre Étienne Desmarteaux\n10h à 13h
URL:https://slabrosemont.org/evenement/preliminaire-karate-jeux-de-montreal/
LOCATION:Centre Étienne Desmarteau\, 3430 rue Bellechasse\, Montréal\, H1X2Y6
END:VEVENT
BEGIN:VEVENT
DTSTART;TZID=America/Toronto:20160213T080000
DTEND;TZID=America/Toronto:20160213T170000
DTSTAMP:20260419T184611
CREATED:20160107T214500Z
LAST-MODIFIED:20160107T214500Z
UID:2010-1455350400-1455382800@slabrosemont.org
SUMMARY:Journée Rouge  Spéciale St-Valentin
DESCRIPTION:Joyeuse St-Valentin à tous! Pour cette journée\, nous vous invitons à vous habiller en rouge.
URL:https://slabrosemont.org/evenement/journee-rouge-speciale-st-valentin/
LOCATION:Québec
END:VEVENT
BEGIN:VEVENT
DTSTART;TZID=America/Toronto:20160213T103000
DTEND;TZID=America/Toronto:20160213T113000
DTSTAMP:20260419T184611
CREATED:20160107T191126Z
LAST-MODIFIED:20160107T191935Z
UID:1998-1455359400-1455363000@slabrosemont.org
SUMMARY:Cool Yoga SLAB
DESCRIPTION:Vous vous cherchez une activité extérieur qui vous fait bouger ? Le samedi 13 février 2016\, notre professeure Fiorela offre un cours de Cool Yoga dans le parc Lafond. Venez avec votre famille\, vos amis\, votre conjoint ou conjointe ou même venez seul. Plaisir assuré avec l’équipe du SLAB! \n*Il est important de s’inscrire à l’activité sur notre site internet ou par téléphone.
URL:https://slabrosemont.org/evenement/cool-yoga-slab/
LOCATION:Rue Masson\, entre le boulevard Saint-Michel et la 12è avenue\, Québec\, Canada
END:VEVENT
BEGIN:VEVENT
DTSTART;TZID=America/Toronto:20160215T000000
DTEND;TZID=America/Toronto:20160219T235500
DTSTAMP:20260419T184611
CREATED:20160107T204740Z
LAST-MODIFIED:20160107T204740Z
UID:2007-1455494400-1455926100@slabrosemont.org
SUMMARY:Pré-inscriptions Session Printemps
DESCRIPTION:Privilège\nVous êtes inscrit avec nous à la session hiver et vous désirez vous réinscrire à une activité pour la session printemps et bien\, c’est la semaine des pré-inscriptions qui commencent. Vous pouvez vous inscrire toute la semaine en ligne. \nSi vous avez des questions\, vous pouvez nous joindre directement au bureau.
URL:https://slabrosemont.org/evenement/pre-inscriptions-session-printemps/
LOCATION:Centre Gabrielle-et-Marcel-Lapalme\, 5350 Rue Lafond\, Montréal\, H1X 2X2
END:VEVENT
BEGIN:VEVENT
DTSTART;TZID=America/Toronto:20160222T000000
DTEND;TZID=America/Toronto:20160226T235500
DTSTAMP:20260419T184611
CREATED:20160107T210048Z
LAST-MODIFIED:20160107T210109Z
UID:2008-1456099200-1456530900@slabrosemont.org
SUMMARY:Pré-inscriptions Camp de jour Été 2016
DESCRIPTION:Vous avez inscrit votre enfant au camp de jour l’été passé (2015) et vous voulez le ré-inscrire pour cet été? Et bien\, vous pouvez privilégier la période de pré-inscriptions en ligne pour le camp de jour qui commence aujourd’hui. Il s’agit d’un privilège d’inscriptions avant la période d’inscriptions ouvert à tous qui débutera le 29 mars 2016. \nL’inscription se fait en ligne sur notre site internet.
URL:https://slabrosemont.org/evenement/pre-inscriptions-camp-de-jour/
LOCATION:Centre Gabrielle-et-Marcel-Lapalme\, 5350 Rue Lafond\, Montréal\, H1X 2X2
END:VEVENT
BEGIN:VEVENT
DTSTART;TZID=America/Toronto:20160227T103000
DTEND;TZID=America/Toronto:20160227T113000
DTSTAMP:20260419T184611
CREATED:20160107T161624Z
LAST-MODIFIED:20160215T204746Z
UID:1991-1456569000-1456572600@slabrosemont.org
SUMMARY:Atelier Mini-science
DESCRIPTION:Atelier gratuit de Science en folie avec notre professeur Philippe. L’activité est destinée aux enfants âgés entre 3 et 6 ans. Pour vous inscrire\, vous pouvez aller directement à la bibliothèque Marc-Favreau ou les appeler au 514-872-7272. \n*Il est important de vous inscrire d’avance\, un maximum de 20 personnes par atelier. Il sera possible de prendre des personnes à la porte seulement\, si le maximum n’est pas atteint. \nBon atelier!
URL:https://slabrosemont.org/evenement/atelier-science-en-folie-2/
LOCATION:Bibliothèque Marc Favreau\, 502\, 622 Boulevard Rosemont\, Montréal\, H2S
END:VEVENT
BEGIN:VEVENT
DTSTART;TZID=America/Toronto:20160229T070000
DTEND;TZID=America/Toronto:20160304T180000
DTSTAMP:20260419T184611
CREATED:20160107T202745Z
LAST-MODIFIED:20160209T004429Z
UID:2005-1456729200-1457114400@slabrosemont.org
SUMMARY:Camp de jour Les Stoukises Relâche scolaire
DESCRIPTION:Service de garde: 7h à 9h30 et 15h30 à 18h\nCamp de jour: 9h à 15h30 \nIl est possible de prendre le service de garde à la période au montant de 7$ ou à la semaine 35$
URL:https://slabrosemont.org/evenement/camp-de-jour-les-stoukises-relache-scolaire-2/
LOCATION:Centre Gabrielle-et-Marcel-Lapalme\, 5350 Rue Lafond\, Montréal\, H1X 2X2
ATTACH;FMTTYPE=image/png:https://slabrosemont.org/wp-content/uploads/2016/01/Horaire-de-la-relâcheweb.png
END:VEVENT
END:VCALENDAR