BEGIN:VCALENDAR
VERSION:2.0
PRODID:-//Service des loisirs Angus-Bourbonnière - ECPv6.15.18//NONSGML v1.0//EN
CALSCALE:GREGORIAN
METHOD:PUBLISH
X-WR-CALNAME:Service des loisirs Angus-Bourbonnière
X-ORIGINAL-URL:https://slabrosemont.org
X-WR-CALDESC:Évènements pour Service des loisirs Angus-Bourbonnière
REFRESH-INTERVAL;VALUE=DURATION:PT1H
X-Robots-Tag:noindex
X-PUBLISHED-TTL:PT1H
BEGIN:VTIMEZONE
TZID:America/Toronto
BEGIN:DAYLIGHT
TZOFFSETFROM:-0500
TZOFFSETTO:-0400
TZNAME:EDT
DTSTART:20140309T070000
END:DAYLIGHT
BEGIN:STANDARD
TZOFFSETFROM:-0400
TZOFFSETTO:-0500
TZNAME:EST
DTSTART:20141102T060000
END:STANDARD
BEGIN:DAYLIGHT
TZOFFSETFROM:-0500
TZOFFSETTO:-0400
TZNAME:EDT
DTSTART:20150308T070000
END:DAYLIGHT
BEGIN:STANDARD
TZOFFSETFROM:-0400
TZOFFSETTO:-0500
TZNAME:EST
DTSTART:20151101T060000
END:STANDARD
BEGIN:DAYLIGHT
TZOFFSETFROM:-0500
TZOFFSETTO:-0400
TZNAME:EDT
DTSTART:20160313T070000
END:DAYLIGHT
BEGIN:STANDARD
TZOFFSETFROM:-0400
TZOFFSETTO:-0500
TZNAME:EST
DTSTART:20161106T060000
END:STANDARD
BEGIN:DAYLIGHT
TZOFFSETFROM:-0500
TZOFFSETTO:-0400
TZNAME:EDT
DTSTART:20170312T070000
END:DAYLIGHT
BEGIN:STANDARD
TZOFFSETFROM:-0400
TZOFFSETTO:-0500
TZNAME:EST
DTSTART:20171105T060000
END:STANDARD
END:VTIMEZONE
BEGIN:VEVENT
DTSTART;TZID=America/Toronto:20151130T000000
DTEND;TZID=America/Toronto:20151204T230000
DTSTAMP:20260419T151525
CREATED:20151021T160327Z
LAST-MODIFIED:20151021T160327Z
UID:1612-1448841600-1449270000@slabrosemont.org
SUMMARY:Inscriptions
DESCRIPTION:Inscriptions\nC’est la semaine de nos inscriptions pour la session d’hiver. Vous pouvez les faire par internet\, venir directement au bureau (GML\, 2e étage) ou par téléphone au 514-872-6612.
URL:https://slabrosemont.org/evenement/inscriptions/
LOCATION:Québec
END:VEVENT
BEGIN:VEVENT
DTSTART;TZID=America/Toronto:20151206T100000
DTEND;TZID=America/Toronto:20151206T120000
DTSTAMP:20260419T151525
CREATED:20151021T194307Z
LAST-MODIFIED:20151119T202510Z
UID:1614-1449396000-1449403200@slabrosemont.org
SUMMARY:Kangoo Noël
DESCRIPTION:Vous ne connaissez pas le Kangoo Jumps ? Venez participer à des ateliers de Kangoo jumps pour parent et enfant. Des bottes seront disponibles pour toutes  les grandeurs (à partir de 6 ans et +). Musique\, ballon chasseur\, courses à obstacles et plusieurs surprises sur place. Inscrivez-vous au 514-872-6612.
URL:https://slabrosemont.org/evenement/kangoo-noel/
LOCATION:Centre Gabrielle-et-Marcel-Lapalme\, 5350 Rue Lafond\, Montréal\, H1X 2X2
END:VEVENT
BEGIN:VEVENT
DTSTART;TZID=America/Toronto:20151209T070000
DTEND;TZID=America/Toronto:20151209T180000
DTSTAMP:20260419T151525
CREATED:20151118T155107Z
LAST-MODIFIED:20151130T145106Z
UID:1921-1449644400-1449684000@slabrosemont.org
SUMMARY:Camp de jour
DESCRIPTION:
URL:https://slabrosemont.org/evenement/camp-de-jour-5/
LOCATION:Centre Gabrielle-et-Marcel-Lapalme\, 5350 Rue Lafond\, Montréal\, H1X 2X2
END:VEVENT
BEGIN:VEVENT
DTSTART;TZID=America/Toronto:20151210T070000
DTEND;TZID=America/Toronto:20151210T180000
DTSTAMP:20260419T151525
CREATED:20151118T155146Z
LAST-MODIFIED:20151130T145143Z
UID:1923-1449730800-1449770400@slabrosemont.org
SUMMARY:Camp de jour
DESCRIPTION:
URL:https://slabrosemont.org/evenement/camp-de-jour-6/
LOCATION:Centre Gabrielle-et-Marcel-Lapalme\, 5350 Rue Lafond\, Montréal\, H1X 2X2
END:VEVENT
BEGIN:VEVENT
DTSTART;TZID=America/Toronto:20151210T170000
DTEND;TZID=America/Toronto:20151210T190000
DTSTAMP:20260419T151525
CREATED:20151118T162335Z
LAST-MODIFIED:20151119T202427Z
UID:1925-1449766800-1449774000@slabrosemont.org
SUMMARY:Lancement SLAB 2015-2016
DESCRIPTION:L’organisme est en grand changement\, plein de nouveautés pour la prochaine année et le lancement des festivités pour notre 50e anniversaire! Nous vous invitons à venir connaitre ces nouveautés\, rencontrer nos professeurs et nous poser des questions. Kiosques d’informations\, prestations et présentations sur place\, il y aura aussi de l’animation pour les enfants\, petites bouchées et des tirages. Nous vous attendons en grand nombre à partir de 17h. \nL’équipe du SLAB \nGRATUIT- Ouvert à tous!\nJeudi 10 décembre 2015\n17h à 19h au centre Gabrielle-et-Marcel Lapalme\, 2e étage
URL:https://slabrosemont.org/evenement/lancement-slab-2015-2016/
LOCATION:Centre Gabrielle-et-Marcel-Lapalme\, 5350 Rue Lafond\, Montréal\, H1X 2X2
END:VEVENT
BEGIN:VEVENT
DTSTART;TZID=America/Toronto:20151211T070000
DTEND;TZID=America/Toronto:20151211T180000
DTSTAMP:20260419T151525
CREATED:20151118T155242Z
LAST-MODIFIED:20151130T145215Z
UID:1924-1449817200-1449856800@slabrosemont.org
SUMMARY:Camp de jour
DESCRIPTION:
URL:https://slabrosemont.org/evenement/camp-de-jour-7/
LOCATION:Centre Gabrielle-et-Marcel-Lapalme\, 5350 Rue Lafond\, Montréal\, H1X 2X2
END:VEVENT
BEGIN:VEVENT
DTSTART;TZID=America/Toronto:20151212T073000
DTEND;TZID=America/Toronto:20151212T180000
DTSTAMP:20260419T151525
CREATED:20151124T195654Z
LAST-MODIFIED:20151202T185055Z
UID:1940-1449905400-1449943200@slabrosemont.org
SUMMARY:Tournoi de badminton
DESCRIPTION:7H30 ACCUEIL DES JOUEURS –\nÉCHAUFFEMENT 8H00\nDÉBUT DU SIMPLE C-D- ET DU DOUBLE E 10H00\nDÉBUT DOUBLE A-B 11H00: DÉBUT DU SIMPLE E ET DOUBLE C-D 13H00\nSIMPLE A-B 14H00\nTIRAGE 14H30\nDÉBUT 3 CONTRE 3 C 16H00 3 CONTRE 3 A-B \nPréliminaires pour les Jeux de Montréal.\nPour plus d ‘informations: INFO@SLABROSEMONT.ORG  OU INFO@ACESDEMONTREAL.COM OU 514-872-6612
URL:https://slabrosemont.org/evenement/tournoi-de-badminton-2/
LOCATION:Centre Étienne Desmarteau\, 3430 rue Bellechasse\, Montréal\, H1X2Y6
END:VEVENT
BEGIN:VEVENT
DTSTART;TZID=America/Toronto:20151212T130000
DTEND;TZID=America/Toronto:20151212T150000
DTSTAMP:20260419T151525
CREATED:20151021T160754Z
LAST-MODIFIED:20151021T160754Z
UID:1613-1449925200-1449932400@slabrosemont.org
SUMMARY:Fête de Noël
DESCRIPTION:C’est notre fête de noël du SLAB\, vous êtes invités à venir dans nos locaux de 13h à 15h. Venez voir le Père Noël \, prendre des photos\, jouer dans les jeux gonflables et participer à des activités. Plein de surprises sur place. Plus d’informations à venir !
URL:https://slabrosemont.org/evenement/fete-de-noel/
LOCATION:Québec
END:VEVENT
BEGIN:VEVENT
DTSTART;VALUE=DATE:20151221
DTEND;VALUE=DATE:20160104
DTSTAMP:20260419T151525
CREATED:20150901T021544Z
LAST-MODIFIED:20151028T151301Z
UID:1497-1450656000-1451865599@slabrosemont.org
SUMMARY:Vacances de Noël
DESCRIPTION:
URL:https://slabrosemont.org/evenement/vacances-de-noel/
LOCATION:Québec
END:VEVENT
END:VCALENDAR