BEGIN:VCALENDAR
VERSION:2.0
PRODID:-//Service des loisirs Angus-Bourbonnière - ECPv6.15.18//NONSGML v1.0//EN
CALSCALE:GREGORIAN
METHOD:PUBLISH
X-ORIGINAL-URL:https://slabrosemont.org
X-WR-CALDESC:Évènements pour Service des loisirs Angus-Bourbonnière
REFRESH-INTERVAL;VALUE=DURATION:PT1H
X-Robots-Tag:noindex
X-PUBLISHED-TTL:PT1H
BEGIN:VTIMEZONE
TZID:America/Toronto
BEGIN:DAYLIGHT
TZOFFSETFROM:-0500
TZOFFSETTO:-0400
TZNAME:EDT
DTSTART:20140309T070000
END:DAYLIGHT
BEGIN:STANDARD
TZOFFSETFROM:-0400
TZOFFSETTO:-0500
TZNAME:EST
DTSTART:20141102T060000
END:STANDARD
BEGIN:DAYLIGHT
TZOFFSETFROM:-0500
TZOFFSETTO:-0400
TZNAME:EDT
DTSTART:20150308T070000
END:DAYLIGHT
BEGIN:STANDARD
TZOFFSETFROM:-0400
TZOFFSETTO:-0500
TZNAME:EST
DTSTART:20151101T060000
END:STANDARD
BEGIN:DAYLIGHT
TZOFFSETFROM:-0500
TZOFFSETTO:-0400
TZNAME:EDT
DTSTART:20160313T070000
END:DAYLIGHT
BEGIN:STANDARD
TZOFFSETFROM:-0400
TZOFFSETTO:-0500
TZNAME:EST
DTSTART:20161106T060000
END:STANDARD
END:VTIMEZONE
BEGIN:VTIMEZONE
TZID:UTC
BEGIN:STANDARD
TZOFFSETFROM:+0000
TZOFFSETTO:+0000
TZNAME:UTC
DTSTART:20140101T000000
END:STANDARD
END:VTIMEZONE
BEGIN:VEVENT
DTSTART;VALUE=DATE:20151001
DTEND;VALUE=DATE:20151002
DTSTAMP:20260419T114905
CREATED:20150901T015303Z
LAST-MODIFIED:20150901T015635Z
UID:1489-1443657600-1443743999@slabrosemont.org
SUMMARY:Journée des centres  communautaire de loisir
DESCRIPTION:Nous tenons à souligner la journée nationale des centres communautaire de loisirs\, pour l’occasion il y aura distribution d’objets promotionnels sur la rue masson de 10h00 à 11h30 avec les membres de la FQCCL.
URL:https://slabrosemont.org/evenement/journee-des-centres-de-loisirs/
LOCATION:Centre Gabrielle-et-Marcel-Lapalme\, 5350 Rue Lafond\, Montréal\, H1X 2X2
END:VEVENT
BEGIN:VEVENT
DTSTART;TZID=UTC:20151003T103000
DTEND;TZID=UTC:20151003T113000
DTSTAMP:20260419T114905
CREATED:20150901T014440Z
LAST-MODIFIED:20150901T021801Z
UID:1486-1443868200-1443871800@slabrosemont.org
SUMMARY:Animation Musique et compagnie
DESCRIPTION:Une animation de Musique et compagnie aura lieu à la bibliothèque Marc Favreau de 10h30 à 11h30. C’est une activité parent-enfant âgé de 3 à 5 ans. Venez vous amusez en grand nombre !
URL:https://slabrosemont.org/evenement/animation-musique-et-compagnie/
LOCATION:Québec
END:VEVENT
BEGIN:VEVENT
DTSTART;TZID=America/Toronto:20151006T100000
DTEND;TZID=America/Toronto:20151006T150000
DTSTAMP:20260419T114905
CREATED:20150901T015952Z
LAST-MODIFIED:20150901T020042Z
UID:1491-1444125600-1444143600@slabrosemont.org
SUMMARY:Journée pédagogique St-Émile
DESCRIPTION:Nous accueillons aujourd’hui les jeunes de l’école primaire St-Émile pour une journée pédagogique.
URL:https://slabrosemont.org/evenement/journee-pedagogique-st-emile/
LOCATION:Québec
END:VEVENT
BEGIN:VEVENT
DTSTART;VALUE=DATE:20151012
DTEND;VALUE=DATE:20151013
DTSTAMP:20260419T114905
CREATED:20150901T013552Z
LAST-MODIFIED:20150901T014044Z
UID:1485-1444608000-1444694399@slabrosemont.org
SUMMARY:Congé action de grâce
DESCRIPTION:Toutes nos installations seront fermées lundi 12 octobre 2015 ( Centre Gabrielle-et-Marcel Lapalm\, Centre Étienne Desmarteau\, Piste Étienne Desmartau et Pavillon des arts et des sports Jean-Eudes) pour le congé de l’action de grâce.Nous serons de retour mardi 13 octobre avec l’horaire habituel.
URL:https://slabrosemont.org/evenement/conge-action-de-grace/
LOCATION:Québec
END:VEVENT
BEGIN:VEVENT
DTSTART;TZID=UTC:20151025T130000
DTEND;TZID=UTC:20151025T170000
DTSTAMP:20260419T114905
CREATED:20150928T160816Z
LAST-MODIFIED:20150928T161302Z
UID:1553-1445778000-1445792400@slabrosemont.org
SUMMARY:Peinture figurine débutant à avancé
DESCRIPTION:Vous débutez dans la peinture de figurine et souhaitez augmenter votre niveau au-delà de la simple application de couleur ? Venez découvrir les techniques qui vous permettront de passer de débutant à intermédiaire. Brossage\, lavis\, « layering »\, éclairsissement extrême\, consistance des peintures: cet atelier vous donnera les bonnes bases pour améliorer vos modèles.\nFigurine fournie; apportez vos pinceaux et peintures \nVous pouvez vous inscrire dès maintenant sur notre internet ou appeler à nos bureaux au 514-872-6612
URL:https://slabrosemont.org/evenement/peinture-figurine-debutant-a-avance/
LOCATION:Québec
END:VEVENT
BEGIN:VEVENT
DTSTART;TZID=America/Toronto:20151028T070000
DTEND;TZID=America/Toronto:20151029T180000
DTSTAMP:20260419T114905
CREATED:20151027T191244Z
LAST-MODIFIED:20151027T191244Z
UID:1818-1446015600-1446141600@slabrosemont.org
SUMMARY:Camp de jour
DESCRIPTION:Nous ouvrirons nos portes 2 jours de suite pour le camp de jour! La journée va commencer de 7h00 à 9h00 et de 15h30 à 18h pour le service de garde et de 9h00 à 15h30 le camp de jour. N’oubliez pas lunch froid\, collation et vêtements confortables. D’autres belles journées remplies d’activités et une belle solution pour les parents!
URL:https://slabrosemont.org/evenement/camp-de-jour-2/
LOCATION:Centre Gabrielle-et-Marcel-Lapalme\, 5350 Rue Lafond\, Montréal\, H1X 2X2
END:VEVENT
BEGIN:VEVENT
DTSTART;VALUE=DATE:20151031
DTEND;VALUE=DATE:20151101
DTSTAMP:20260419T114905
CREATED:20150901T021417Z
LAST-MODIFIED:20151008T014031Z
UID:1496-1446249600-1446335999@slabrosemont.org
SUMMARY:Atelier Zombie Halloween
DESCRIPTION:C’est la journée de l’Halloween\, on vous invite à venir passez l’après-midi au SLAB. Atelier de cuisine\, Kermesse\, bingo  et plusieurs surprises sous la thématique des zombies de 13h à 15h pour 5 ans et +. \nInscrivez-vous dès maintenant ! Pour l’inscription\, vous pouvez nous appeler au 514-872-6612 ou venir directement à nos bureaux.
URL:https://slabrosemont.org/evenement/halloween/
LOCATION:Québec
END:VEVENT
END:VCALENDAR