BEGIN:VCALENDAR
VERSION:2.0
PRODID:-//Service des loisirs Angus-Bourbonnière - ECPv6.15.18//NONSGML v1.0//EN
CALSCALE:GREGORIAN
METHOD:PUBLISH
X-ORIGINAL-URL:https://slabrosemont.org
X-WR-CALDESC:Évènements pour Service des loisirs Angus-Bourbonnière
REFRESH-INTERVAL;VALUE=DURATION:PT1H
X-Robots-Tag:noindex
X-PUBLISHED-TTL:PT1H
BEGIN:VTIMEZONE
TZID:UTC
BEGIN:STANDARD
TZOFFSETFROM:+0000
TZOFFSETTO:+0000
TZNAME:UTC
DTSTART:20140101T000000
END:STANDARD
END:VTIMEZONE
BEGIN:VTIMEZONE
TZID:America/Toronto
BEGIN:DAYLIGHT
TZOFFSETFROM:-0500
TZOFFSETTO:-0400
TZNAME:EDT
DTSTART:20140309T070000
END:DAYLIGHT
BEGIN:STANDARD
TZOFFSETFROM:-0400
TZOFFSETTO:-0500
TZNAME:EST
DTSTART:20141102T060000
END:STANDARD
BEGIN:DAYLIGHT
TZOFFSETFROM:-0500
TZOFFSETTO:-0400
TZNAME:EDT
DTSTART:20150308T070000
END:DAYLIGHT
BEGIN:STANDARD
TZOFFSETFROM:-0400
TZOFFSETTO:-0500
TZNAME:EST
DTSTART:20151101T060000
END:STANDARD
BEGIN:DAYLIGHT
TZOFFSETFROM:-0500
TZOFFSETTO:-0400
TZNAME:EDT
DTSTART:20160313T070000
END:DAYLIGHT
BEGIN:STANDARD
TZOFFSETFROM:-0400
TZOFFSETTO:-0500
TZNAME:EST
DTSTART:20161106T060000
END:STANDARD
END:VTIMEZONE
BEGIN:VEVENT
DTSTART;TZID=UTC:20150903T130000
DTEND;TZID=UTC:20150903T180000
DTSTAMP:20260419T100621
CREATED:20150901T022334Z
LAST-MODIFIED:20150901T022655Z
UID:1498-1441285200-1441303200@slabrosemont.org
SUMMARY:Vente trottoir Masson
DESCRIPTION:Nous aurons un kiosque à la vente trottoir Masson ce jeudi de 13h00 à 18h00. Venez nous voir en grand nombre !
URL:https://slabrosemont.org/evenement/vente-trottoir-masson/
LOCATION:rue Masson\, rue Masson\, Montréal
END:VEVENT
BEGIN:VEVENT
DTSTART;TZID=America/Toronto:20150905T103000
DTEND;TZID=America/Toronto:20150905T113000
DTSTAMP:20260419T100621
CREATED:20150827T053305Z
LAST-MODIFIED:20150827T053305Z
UID:1454-1441449000-1441452600@slabrosemont.org
SUMMARY:Yog'amusant
DESCRIPTION:Une animation de Yog’amusant sera fait à la bibliothèque Marc Favreau de 10h30 à 11h30. C’est une activité parent-enfant âgé de 3 à 5 ans. Venez vous amusez en grand nombre !
URL:https://slabrosemont.org/evenement/yogamusant/
LOCATION:Bibliothèque Marc Favreau\, 502\, 622 Boulevard Rosemont\, Montréal\, H2S
END:VEVENT
BEGIN:VEVENT
DTSTART;TZID=UTC:20150905T110000
DTEND;TZID=UTC:20150905T150000
DTSTAMP:20260419T100621
CREATED:20150901T022625Z
LAST-MODIFIED:20150901T022625Z
UID:1501-1441450800-1441465200@slabrosemont.org
SUMMARY:Vente trottoir Masson
DESCRIPTION:Nous aurons un kiosque pour une 2e journée sur la rue masson de 11h00 à 15h00. Venez nous voir en grand nombre!
URL:https://slabrosemont.org/evenement/vente-trottoir-masson-2/
LOCATION:rue Masson\, rue Masson\, Montréal
END:VEVENT
BEGIN:VEVENT
DTSTART;VALUE=DATE:20150907
DTEND;VALUE=DATE:20150908
DTSTAMP:20260419T100621
CREATED:20150820T054638Z
LAST-MODIFIED:20150825T013111Z
UID:1292-1441584000-1441670399@slabrosemont.org
SUMMARY:Congé Fête du travail
DESCRIPTION:Toutes nos installations seront fermées lundi 7 septembre 2015 ( Centre Gabrielle-et-Marcel Lapalm\, Centre Étienne Desmarteau\, Piste Étienne Desmartau et Pavillon des arts et des sports Jean-Eudes).Nous serons de retour mardi 8 septembre pour la semaine d’inscriptions.
URL:https://slabrosemont.org/evenement/fete-du-travail/
LOCATION:Québec
END:VEVENT
BEGIN:VEVENT
DTSTART;VALUE=DATE:20150908
DTEND;VALUE=DATE:20150912
DTSTAMP:20260419T100621
CREATED:20150812T011439Z
LAST-MODIFIED:20150812T011439Z
UID:1174-1441670400-1442015999@slabrosemont.org
SUMMARY:Inscriptions Automne 2015
DESCRIPTION:Période d’inscriptions du 8 au 11 septembre. Vous pouvez aller vous inscrire à partir de minuit sur notre site internet ou  par téléphone ou directement à nos bureaux à partir de 9h00 jusqu’à 18h00.
URL:https://slabrosemont.org/evenement/inscriptions-automne-2015/
LOCATION:Centre Gabrielle-et-Marcel-Lapalme\, 5350 Rue Lafond\, Montréal\, H1X 2X2
ATTACH;FMTTYPE=image/jpeg:https://slabrosemont.org/wp-content/uploads/2015/08/publicité-communication-1.jpg
END:VEVENT
BEGIN:VEVENT
DTSTART;TZID=America/Toronto:20150912T120000
DTEND;TZID=America/Toronto:20150912T170000
DTSTAMP:20260419T100621
CREATED:20150812T012458Z
LAST-MODIFIED:20150826T033346Z
UID:1176-1442059200-1442077200@slabrosemont.org
SUMMARY:Fête Déclic Loisir
DESCRIPTION:Fête familiale qui regroupe tous les centres de loisirs de Rosemont. Jeux gonflables\, activités de démonstrations\, spectacle et plusieurs autres surprises. Venez découvrir les activités offertes par vos centres de Loisirs. \nCentre de loisirs présent: Service des Loisirs Angus-Bourbonnière\, Père Marquette\, Loisirs de Rosemont\, L’Accessible et La Maisonnette des Parents.
URL:https://slabrosemont.org/evenement/fete-declic-loisirs/
LOCATION:Québec
ATTACH;FMTTYPE=image/jpeg:https://slabrosemont.org/wp-content/uploads/2015/08/affichedeclicloisirs-e1440541983480.jpg
END:VEVENT
BEGIN:VEVENT
DTSTART;TZID=UTC:20150912T133000
DTEND;TZID=UTC:20150912T150000
DTSTAMP:20260419T100621
CREATED:20150825T013017Z
LAST-MODIFIED:20150831T173029Z
UID:1361-1442064600-1442070000@slabrosemont.org
SUMMARY:Atelier d'initiation à l'autodéfense pour femme
DESCRIPTION:Au Service des Loisirs Angus-Bourbonnière\, dès le 12 septembre\, pour 4 semaines d’activité\, venez participer à un atelier dynamique d’auto-défense pour les femmes! \nNotre enseignant\, senseÏ Denis Guimond\, enseigne depuis près de 30 ans le karaté\, style Shotokan avec Karaté Rosemont et a suivi le programme spécial d’auto-défense pour femme du shinbu-ryu karaté do (goshin-gutsu) à Sherbrooke avec le 8e dan Jean Noël Blanchette afin d’offrir le cours aux femmes. \nLes 4 séances seront offertes de 13h30 à 15h à la salle dojo du centre Gabrielle-et-Marcel Lapalme. Aucun préalable nécessaire\, même pas besoin d’être en forme. \nCoût : 50\,00$ par femme pour un total de 6 heures d’atelier. \nLes inscriptions ont débuté ! Places limitées!
URL:https://slabrosemont.org/evenement/atelier-dinitiation-a-lautodefense-pour-femme/
LOCATION:Centre Gabrielle-et-Marcel-Lapalme\, 5350 Rue Lafond\, Montréal\, H1X 2X2
END:VEVENT
BEGIN:VEVENT
DTSTART;TZID=UTC:20150913T070000
DTEND;TZID=UTC:20150913T210000
DTSTAMP:20260419T100621
CREATED:20150901T015126Z
LAST-MODIFIED:20150901T015126Z
UID:1487-1442127600-1442178000@slabrosemont.org
SUMMARY:Tournoi de badminton
DESCRIPTION:Un tournoi de badminton va avoir lieu de 7h00 à 21h00 au centre Étienne Desmarteau.
URL:https://slabrosemont.org/evenement/tournoi-de-badminton/
LOCATION:Québec
END:VEVENT
BEGIN:VEVENT
DTSTART;TZID=America/Toronto:20150914T181500
DTEND;TZID=America/Toronto:20150914T224500
DTSTAMP:20260419T100621
CREATED:20150901T021344Z
LAST-MODIFIED:20150901T021344Z
UID:1493-1442254500-1442270700@slabrosemont.org
SUMMARY:Début de la session automne de badminton
DESCRIPTION:C’est le début de la session du badminton libre au centre Étienne Desmarteau.
URL:https://slabrosemont.org/evenement/debut-de-la-session-automne-de-badminton/
LOCATION:Centre Étienne Desmarteau\, 3430 rue Bellechasse\, Montréal\, H1X2Y6
END:VEVENT
BEGIN:VEVENT
DTSTART;TZID=UTC:20150916T130000
DTEND;TZID=UTC:20150916T190000
DTSTAMP:20260419T100621
CREATED:20150820T054412Z
LAST-MODIFIED:20150902T195111Z
UID:1291-1442408400-1442430000@slabrosemont.org
SUMMARY:Inscription Accès Loisirs
DESCRIPTION:Ce programme permet aux personnes et aux familles à faible revenu d’avoir accès gratuitement à des activités sélectionnées parmi la programmation régulière de plusieurs organisme de loisir de l’Arrondissement. Prendre note que toutes les activités ne sont pas disponibles. \nLieux d’inscription\n\nQuartier de Rosemont: Centre Gabrielle-et-Marcel Lapalme\, 5350 rue lafond\, 2e étage ( 13h00 à 19h00)\nQuartier de la Petite-Patrie: La Maisonnette des parents\, 6652\, boulevard Saint-Laurent (13h00 à 19h00)\n\nPour l’admissibilité\, l’avis de cotisation sera demandé sur place.
URL:https://slabrosemont.org/evenement/inscription-acces-loisirs/
LOCATION:Centre Gabrielle-et-Marcel-Lapalme\, 5350 Rue Lafond\, Montréal\, H1X 2X2
END:VEVENT
BEGIN:VEVENT
DTSTART;VALUE=DATE:20150919
DTEND;VALUE=DATE:20150920
DTSTAMP:20260419T100621
CREATED:20150901T020653Z
LAST-MODIFIED:20150901T020653Z
UID:1492-1442620800-1442707199@slabrosemont.org
SUMMARY:Début de la session automne
DESCRIPTION:C’est la semaine du début des cours de la session d’automne dans tous nos centres. Bonne session !
URL:https://slabrosemont.org/evenement/debut-de-la-session-automne/
LOCATION:Québec
END:VEVENT
BEGIN:VEVENT
DTSTART;TZID=UTC:20150924T170000
DTEND;TZID=UTC:20150924T180000
DTSTAMP:20260419T100621
CREATED:20150921T183020Z
LAST-MODIFIED:20150921T183106Z
UID:1539-1443114000-1443117600@slabrosemont.org
SUMMARY:Essai gratuit Double Corde
DESCRIPTION:Double-corde (corde à danser\, le cours) ESSAI GRATUIT ce jeudi 17h au centre Lapalme! L’activité est à partir de 6 ans et plus. Nous vous attendons en grand nombre.
URL:https://slabrosemont.org/evenement/essai-gratuit-double-corde/
LOCATION:Centre Gabrielle-et-Marcel-Lapalme\, 5350 Rue Lafond\, Montréal\, H1X 2X2
ATTACH;FMTTYPE=image/jpeg:https://slabrosemont.org/wp-content/uploads/2015/09/Fête-de-la-famille-2015-072.jpg
END:VEVENT
BEGIN:VEVENT
DTSTART;TZID=America/Toronto:20150930T070000
DTEND;TZID=America/Toronto:20150930T180000
DTSTAMP:20260419T100621
CREATED:20150917T192850Z
LAST-MODIFIED:20150917T194202Z
UID:1531-1443596400-1443636000@slabrosemont.org
SUMMARY:Camp de jour
DESCRIPTION:Nous ouvrirons nos portes le temps d’une journée\, le 30 septembre prochain de 7h à 18h\, aux coûts de 15$ par enfant (5-11 ans). Le service de garde est inclus. Une belle journée remplie d’activité\, une belle solution pour les parents! Inscription dès maintenant!
URL:https://slabrosemont.org/evenement/camp-de-jour/
LOCATION:Centre Gabrielle-et-Marcel-Lapalme\, 5350 Rue Lafond\, Montréal\, H1X 2X2
END:VEVENT
END:VCALENDAR