BEGIN:VCALENDAR
VERSION:2.0
PRODID:-//Service des loisirs Angus-Bourbonnière - ECPv6.15.18//NONSGML v1.0//EN
CALSCALE:GREGORIAN
METHOD:PUBLISH
X-WR-CALNAME:Service des loisirs Angus-Bourbonnière
X-ORIGINAL-URL:https://slabrosemont.org
X-WR-CALDESC:Évènements pour Service des loisirs Angus-Bourbonnière
REFRESH-INTERVAL;VALUE=DURATION:PT1H
X-Robots-Tag:noindex
X-PUBLISHED-TTL:PT1H
BEGIN:VTIMEZONE
TZID:America/Toronto
BEGIN:DAYLIGHT
TZOFFSETFROM:-0500
TZOFFSETTO:-0400
TZNAME:EDT
DTSTART:20250309T070000
END:DAYLIGHT
BEGIN:STANDARD
TZOFFSETFROM:-0400
TZOFFSETTO:-0500
TZNAME:EST
DTSTART:20251102T060000
END:STANDARD
BEGIN:DAYLIGHT
TZOFFSETFROM:-0500
TZOFFSETTO:-0400
TZNAME:EDT
DTSTART:20260308T070000
END:DAYLIGHT
BEGIN:STANDARD
TZOFFSETFROM:-0400
TZOFFSETTO:-0500
TZNAME:EST
DTSTART:20261101T060000
END:STANDARD
BEGIN:DAYLIGHT
TZOFFSETFROM:-0500
TZOFFSETTO:-0400
TZNAME:EDT
DTSTART:20270314T070000
END:DAYLIGHT
BEGIN:STANDARD
TZOFFSETFROM:-0400
TZOFFSETTO:-0500
TZNAME:EST
DTSTART:20271107T060000
END:STANDARD
END:VTIMEZONE
BEGIN:VEVENT
DTSTART;TZID=America/Toronto:20260420T103000
DTEND;TZID=America/Toronto:20260420T123000
DTSTAMP:20260420T014542
CREATED:20260303T232827Z
LAST-MODIFIED:20260304T155900Z
UID:21771-1776681000-1776688200@slabrosemont.org
SUMMARY:Atelier découverte et pratique de l’architecture en 4 temps
DESCRIPTION:Plongez dans l’univers architectural des années 60 ! Brutalisme\, modernisme fonctionnel\, lignes fortes et innovations techniques… Cet atelier vous propose d’explorer ces courants marquants tout en développant votre propre projet\, réel ou imaginaire. \nVous apprendrez : \n\nLes techniques et méthodes utilisées en architecture : dessin\, plan\, maquette à l’échelle\nLes codes visuels et tendances des années 60 (brutalisme\, modernisme fonctionnel)\nLes astuces de conception pour mener un projet cohérent\, du croquis au résultat final\nComment respecter les règles de représentation… tout en affirmant votre style et votre individualité\n\nObjectif :\nS’imprégner de l’histoire architecturale de cette époque — ses mouvements\, ses créateurs emblématiques\, son vocabulaire\, son iconographie — pour pouvoir concevoir un projet complet\, de l’esquisse au devis\, en passant par le plan et la maquette. \n🧩 Déroulement – 4 séances de 2 heures \n1️⃣ Conception 20 avril  \n\nChoix ou définition du projet\nEsquisses\, dessins d’intention\, étude du contexte\n\n2️⃣ Mise au point 4 mai  \n\nRéalisation du plan directeur\nDéveloppement des volumes et des circulations\n\n3️⃣ Formalisation 18 mai  \n\nPerspective\nEt/ou création de la maquette en volume\n\n4️⃣ Finalisation & présentation 23 mai  \n\nAjustements\nPrésentation de la production\nRetours constructifs du groupe\n\n  \n🎒 Et à la fin ? \nChaque participant expose  sa propre création : dessins\, plans\, maquette… un projet architectural complet à conserver\, exposer ou faire évoluer. \nUn atelier immersif\, créatif et passionnant pour célébrer 60 ans d’histoire\, d’innovation et de design 🧡✨ \n60 ans : toujours en mouvement \n60 ans du SLAB\, plus de 60 minutes d’atelier d’architecture\, en plein cœur des années 60. \n  \nGRATUIT Inscrivez-vous sur notre site Internet slabrosemont.org ou par téléphone au 514-903-7522 ! \n 
URL:https://slabrosemont.org/evenement/atelier-decouverte-et-pratique-de-larchitecture-en-4-temps/
LOCATION:Centre Gabrielle-et-Marcel-Lapalme\, 5350 rue Lafond\, Montréal\, Québec\, H1X 2X2\, Canada
ATTACH;FMTTYPE=image/jpeg:https://slabrosemont.org/wp-content/uploads/2026/03/architecture--scaled.jpg
END:VEVENT
END:VCALENDAR